BEGIN:VCALENDAR
VERSION:2.0
PRODID:-//eventon.com NONSGML v1.0//EN
CALSCALE:GREGORIAN
METHOD:PUBLISH
BEGIN:VEVENT
UID:69e73bb0adb2c
DTSTAMP:20260421T085616Z
DTSTART:20250607T140000Z
DTEND:20260606T101900Z
LOCATION:https://www.facebook.com/hindutemplestlouis
SUMMARY:SRI BALAJI ABHISHEKAM
DESCRIPTION:SRI BALAJI ABHISHEKAM\nhttps://www.hindutemplestlouis.org/servi
 ces/events/sri-balaji-abhishekam/var/ri-35.l-L1
URL:https://www.hindutemplestlouis.org/services/events/sri-balaji-abhishekam/var/ri-35.l-L1
END:VEVENT
END:VCALENDAR